BEGIN:VCALENDAR
VERSION:2.0
PRODID:-// eRoom plugin //NONSGML v1.0//EN
CALSCALE:GREGORIAN
BEGIN:VEVENT
UID:eRoom-1777162559
SUMMARY:Conferencia
LOCATION:Zoom
DESCRIPTION:Bienvenida Presentación Conferencia Conclusión Despedida\n\n-
 --\n\nConferencia is inviting you to a scheduled Zoom meeting.\n\nJoin Zoo
 m Meeting\nhttps://us05web.zoom.us/j/85007545387?pwd=UVloOVZmUmY0T09WZVluU
 0xwTkNEUT09\n\nMeeting ID: 85007545387\nPasscode: 2020\n
URL;VALUE=URI:https://us05web.zoom.us/j/85007545387?pwd=UVloOVZmUmY0T09WZVluU0xwTkNEUT09
DTSTART:20220609T062300Z
DTEND:20220609T082300Z
DTSTAMP:20260426T001559Z
BEGIN:VALARM
ACTION:DISPLAY
DESCRIPTION:Reminder
TRIGGER;RELATED=START:-PT15M
END:VALARM
END:VEVENT
END:VCALENDAR